BEGIN:VCALENDAR
VERSION:2.0
PRODID:-//DP Pro Event Calendar//3.2.7//EN
BEGIN:VEVENT
UID:c855b96f-f351-4725-8178-1d1cfb792864
DTSTART;TZID=America/Chicago:20260422T180000
DTEND;TZID=America/Chicago:20260422T190000
DTSTAMP:20260313T095451Z
SUMMARY:Wednesday Bible Study
DESCRIPTION:
LOCATION:Multi-Purpose Building
URL:
END:VEVENT
BEGIN:VEVENT
UID:00a9ff5c-b1c1-410d-b8ef-f610fd9c5fc6
DTSTART;TZID=America/Chicago:20260422T180000
DTEND;TZID=America/Chicago:20260422T190000
DTSTAMP:20260313T095451Z
SUMMARY:WEBS
DESCRIPTION:
LOCATION:MPB 0
URL:
END:VEVENT
BEGIN:VEVENT
UID:3e8ed7f9-6543-4247-99ad-79a60338d742
DTSTART;TZID=America/Chicago:20260422T190000
DTEND;TZID=America/Chicago:20260422T210000
DTSTAMP:20260313T095451Z
SUMMARY:Adult Choir
DESCRIPTION:
LOCATION:Choir Suite
URL:
END:VEVENT
BEGIN:VEVENT
UID:c9c00d37-dad1-4faa-90bf-9bb1f15dd386
DTSTART;TZID=America/Chicago:20260422T190000
DTEND;TZID=America/Chicago:20260422T203000
DTSTAMP:20260313T095453Z
SUMMARY:Merge
DESCRIPTION:
LOCATION:Student Center
URL:
END:VEVENT
BEGIN:VEVENT
UID:f34adb58-a2d2-4a57-9f2f-d1ba80d6d6d6
DTSTART;TZID=America/Chicago:20260423T090000
DTEND;TZID=America/Chicago:20260423T160000
DTSTAMP:20260313T095453Z
SUMMARY:Senior Adults/Wildflower viewing
DESCRIPTION:
LOCATION:
URL:
END:VEVENT
BEGIN:VEVENT
UID:bc720679-ad98-46ae-9c33-4217fbc4c7a2
DTSTART;TZID=America/Chicago:20260423T093000
DTEND;TZID=America/Chicago:20260423T103000
DTSTAMP:20260313T095452Z
SUMMARY:SeniorsFit
DESCRIPTION:
LOCATION:Multi-Purpose Building
URL:
END:VEVENT
BEGIN:VEVENT
UID:336499c7-9e88-4738-8e37-03b3c3216c48
DTSTART;TZID=America/Chicago:20260423T183000
DTEND;TZID=America/Chicago:20260423T203000
DTSTAMP:20260313T095453Z
SUMMARY:How People Change Bible Study
DESCRIPTION:
LOCATION:MPB 5/6
URL:
END:VEVENT
BEGIN:VEVENT
UID:f45f1ab6-6791-4f5b-b78e-788a27d70485
DTSTART;TZID=America/Chicago:20260424T093000
DTEND;TZID=America/Chicago:20260424T103000
DTSTAMP:20260313T095452Z
SUMMARY:SeniorsFit
DESCRIPTION:
LOCATION:Multi-Purpose Building
URL:
END:VEVENT
BEGIN:VEVENT
UID:73f1487d-34a3-4153-9008-433a8b1002a6
DTSTART;TZID=America/Chicago:20260424T093000
DTEND;TZID=America/Chicago:20260424T110000
DTSTAMP:20260313T095454Z
SUMMARY:Women's Bible Study-Knowing God
DESCRIPTION:
LOCATION:Fellowship Hall
URL:
END:VEVENT
BEGIN:VEVENT
UID:c71e1b95-5105-4cd4-9af2-46e383529808
DTSTART;TZID=America/Chicago:20260426T000000
DTEND;TZID=America/Chicago:20260426T235900
DTSTAMP:20260313T095451Z
SUMMARY:Sunday Schedule
DESCRIPTION:Sunday School – 9:30 a.m.Worship – 11:00 a.m.
LOCATION:
URL:
END:VEVENT
BEGIN:VEVENT
UID:98128204-8b8b-458e-a5d1-232f8cb1444a
DTSTART;TZID=America/Chicago:20260426T110000
DTEND;TZID=America/Chicago:20260426T140000
DTSTAMP:20260313T095451Z
SUMMARY:NJIB
DESCRIPTION:
LOCATION:Fellowship Hall
URL:
END:VEVENT
BEGIN:VEVENT
UID:0e566c7c-7270-4b14-8ac9-717dde35ac5e
DTSTART;TZID=America/Chicago:20260426T170000
DTEND;TZID=America/Chicago:20260426T183000
DTSTAMP:20260313T095454Z
SUMMARY:Re-engage
DESCRIPTION:
LOCATION:Fellowship Hall
URL:
END:VEVENT
BEGIN:VEVENT
UID:1c5a8f8f-5e94-480d-9b9a-9a1cf3eff048
DTSTART;TZID=America/Chicago:20260426T170000
DTEND;TZID=America/Chicago:20260426T183000
DTSTAMP:20260313T095452Z
SUMMARY:Awana
DESCRIPTION:
LOCATION:
URL:
END:VEVENT
BEGIN:VEVENT
UID:211c08f3-4057-4ae0-a8e1-b1f31e42fd67
DTSTART;TZID=America/Chicago:20260426T183000
DTEND;TZID=America/Chicago:20260426T204500
DTSTAMP:20260313T095452Z
SUMMARY:Trek &amp\; Journey
DESCRIPTION:
LOCATION:Student Center
URL:
END:VEVENT
BEGIN:VEVENT
UID:02349341-f9b2-4ebc-b721-bf0e2093e2b3
DTSTART;TZID=America/Chicago:20260427T093000
DTEND;TZID=America/Chicago:20260427T103000
DTSTAMP:20260313T095452Z
SUMMARY:SeniorsFit
DESCRIPTION:
LOCATION:Multi-Purpose Building
URL:
END:VEVENT
BEGIN:VEVENT
UID:6f51577a-fe28-487a-9209-0667e12800df
DTSTART;TZID=America/Chicago:20260427T190000
DTEND;TZID=America/Chicago:20260427T200000
DTSTAMP:20260313T095453Z
SUMMARY:Prayer Meeting
DESCRIPTION:
LOCATION:MPB 7/8
URL:
END:VEVENT
BEGIN:VEVENT
UID:ec33c689-f68c-4df2-94aa-71ad5fb501f8
DTSTART;TZID=America/Chicago:20260428T093000
DTEND;TZID=America/Chicago:20260428T103000
DTSTAMP:20260313T095452Z
SUMMARY:SeniorsFit
DESCRIPTION:
LOCATION:Multi-Purpose Building
URL:
END:VEVENT
BEGIN:VEVENT
UID:00beb560-f8b0-48e6-b101-75b11cb6f1e3
DTSTART;TZID=America/Chicago:20260428T180000
DTEND;TZID=America/Chicago:20260428T210000
DTSTAMP:20260313T095451Z
SUMMARY:Men's Game Night
DESCRIPTION:
LOCATION:MPB 7/8
URL:
END:VEVENT
BEGIN:VEVENT
UID:06ca6388-5f9c-4678-9137-872917a5a108
DTSTART;TZID=America/Chicago:20260428T183000
DTEND;TZID=America/Chicago:20260428T203000
DTSTAMP:20260313T095453Z
SUMMARY:Women's Game Night
DESCRIPTION:
LOCATION:MPB 0
URL:
END:VEVENT
BEGIN:VEVENT
UID:8e171abe-8a95-4c6e-87aa-820c0eb72546
DTSTART;TZID=America/Chicago:20260429T093000
DTEND;TZID=America/Chicago:20260429T103000
DTSTAMP:20260313T095452Z
SUMMARY:SeniorsFit
DESCRIPTION:
LOCATION:Multi-Purpose Building
URL:
END:VEVENT
BEGIN:VEVENT
UID:ff8a7cac-1e3e-4520-a585-c39aa1cbee06
DTSTART;TZID=America/Chicago:20260429T180000
DTEND;TZID=America/Chicago:20260429T190000
DTSTAMP:20260313T095451Z
SUMMARY:WEBS
DESCRIPTION:
LOCATION:MPB 0
URL:
END:VEVENT
BEGIN:VEVENT
UID:92c98e3b-9c0e-45a8-9acb-f14ef615a0c4
DTSTART;TZID=America/Chicago:20260429T180000
DTEND;TZID=America/Chicago:20260429T190000
DTSTAMP:20260313T095451Z
SUMMARY:Wednesday Bible Study
DESCRIPTION:
LOCATION:Multi-Purpose Building
URL:
END:VEVENT
BEGIN:VEVENT
UID:6009b0bd-1ad1-439d-9e86-7c60c048001c
DTSTART;TZID=America/Chicago:20260429T190000
DTEND;TZID=America/Chicago:20260429T210000
DTSTAMP:20260313T095451Z
SUMMARY:Adult Choir
DESCRIPTION:
LOCATION:Choir Suite
URL:
END:VEVENT
BEGIN:VEVENT
UID:ff103bae-deb2-44f8-926c-f4e0d3aedada
DTSTART;TZID=America/Chicago:20260429T190000
DTEND;TZID=America/Chicago:20260429T203000
DTSTAMP:20260313T095453Z
SUMMARY:Merge
DESCRIPTION:
LOCATION:Student Center
URL:
END:VEVENT
BEGIN:VEVENT
UID:2c4a0f3c-720a-4a9d-bf39-1dfd7f387df0
DTSTART;TZID=America/Chicago:20260430T093000
DTEND;TZID=America/Chicago:20260430T103000
DTSTAMP:20260313T095452Z
SUMMARY:SeniorsFit
DESCRIPTION:
LOCATION:Multi-Purpose Building
URL:
END:VEVENT
BEGIN:VEVENT
UID:a01c39ef-8b0e-415a-8756-3f318c70d82b
DTSTART;TZID=America/Chicago:20260501T093000
DTEND;TZID=America/Chicago:20260501T103000
DTSTAMP:20260313T095452Z
SUMMARY:SeniorsFit
DESCRIPTION:
LOCATION:Multi-Purpose Building
URL:
END:VEVENT
BEGIN:VEVENT
UID:f1d84193-3e09-41f6-8150-b8df4d4ce235
DTSTART;TZID=America/Chicago:20260502T180000
DTEND;TZID=America/Chicago:20260502T200000
DTSTAMP:20260313T095454Z
SUMMARY:Senior Adult Big Band Concert
DESCRIPTION:
LOCATION:MPB\, Kitchen\, MPB 0
URL:
END:VEVENT
BEGIN:VEVENT
UID:91235f16-08a2-40c8-ad92-3a872cf9e8ba
DTSTART;TZID=America/Chicago:20260503T000000
DTEND;TZID=America/Chicago:20260503T235900
DTSTAMP:20260313T095451Z
SUMMARY:Sunday Schedule
DESCRIPTION:Sunday School – 9:30 a.m.Worship – 11:00 a.m.
LOCATION:
URL:
END:VEVENT
BEGIN:VEVENT
UID:f85659b1-b053-4895-974d-adab7e6ac178
DTSTART;TZID=America/Chicago:20260503T110000
DTEND;TZID=America/Chicago:20260503T140000
DTSTAMP:20260313T095451Z
SUMMARY:NJIB
DESCRIPTION:
LOCATION:Fellowship Hall
URL:
END:VEVENT
BEGIN:VEVENT
UID:47a321da-dbce-41e9-8779-b638415e1ead
DTSTART;TZID=America/Chicago:20260503T120000
DTEND;TZID=America/Chicago:20260503T150000
DTSTAMP:20260313T095453Z
SUMMARY:Gaga Ball Tournament
DESCRIPTION:
LOCATION:Multi-Purpose Building
URL:
END:VEVENT
BEGIN:VEVENT
UID:fc97db99-361e-4f19-a2e8-a7cb7e5aec35
DTSTART;TZID=America/Chicago:20260503T170000
DTEND;TZID=America/Chicago:20260503T183000
DTSTAMP:20260313T095454Z
SUMMARY:Re-engage
DESCRIPTION:
LOCATION:Fellowship Hall
URL:
END:VEVENT
BEGIN:VEVENT
UID:ebc76efc-861d-4367-8c20-4f31d955a652
DTSTART;TZID=America/Chicago:20260504T093000
DTEND;TZID=America/Chicago:20260504T103000
DTSTAMP:20260313T095452Z
SUMMARY:SeniorsFit
DESCRIPTION:
LOCATION:Multi-Purpose Building
URL:
END:VEVENT
BEGIN:VEVENT
UID:091883e8-d7f8-466b-a4d6-71d1d45a8213
DTSTART;TZID=America/Chicago:20260504T190000
DTEND;TZID=America/Chicago:20260504T200000
DTSTAMP:20260313T095453Z
SUMMARY:Prayer Meeting
DESCRIPTION:
LOCATION:MPB 7/8
URL:
END:VEVENT
BEGIN:VEVENT
UID:5132ea1e-a4e9-4cce-839e-4fb049ec06eb
DTSTART;TZID=America/Chicago:20260505T093000
DTEND;TZID=America/Chicago:20260505T103000
DTSTAMP:20260313T095452Z
SUMMARY:SeniorsFit
DESCRIPTION:
LOCATION:Multi-Purpose Building
URL:
END:VEVENT
BEGIN:VEVENT
UID:9da1e83e-3555-4b5a-b1e4-150742d3d4db
DTSTART;TZID=America/Chicago:20260506T093000
DTEND;TZID=America/Chicago:20260506T103000
DTSTAMP:20260313T095452Z
SUMMARY:SeniorsFit
DESCRIPTION:
LOCATION:Multi-Purpose Building
URL:
END:VEVENT
BEGIN:VEVENT
UID:1a199893-a861-44f3-9b0d-5412e71d57a5
DTSTART;TZID=America/Chicago:20260506T180000
DTEND;TZID=America/Chicago:20260506T190000
DTSTAMP:20260313T095451Z
SUMMARY:Wednesday Bible Study
DESCRIPTION:
LOCATION:Multi-Purpose Building
URL:
END:VEVENT
BEGIN:VEVENT
UID:5d6a3daf-d78c-4b0c-990a-08055a6bd4dd
DTSTART;TZID=America/Chicago:20260506T180000
DTEND;TZID=America/Chicago:20260506T190000
DTSTAMP:20260313T095451Z
SUMMARY:WEBS
DESCRIPTION:
LOCATION:MPB 0
URL:
END:VEVENT
BEGIN:VEVENT
UID:ea57fb9b-2369-49e9-b356-aa3ec2fdd561
DTSTART;TZID=America/Chicago:20260506T190000
DTEND;TZID=America/Chicago:20260506T203000
DTSTAMP:20260313T095453Z
SUMMARY:Merge
DESCRIPTION:
LOCATION:Student Center
URL:
END:VEVENT
BEGIN:VEVENT
UID:6b82198c-b8b7-4d38-9b19-af42173df4d4
DTSTART;TZID=America/Chicago:20260506T190000
DTEND;TZID=America/Chicago:20260506T210000
DTSTAMP:20260313T095451Z
SUMMARY:Adult Choir
DESCRIPTION:
LOCATION:Choir Suite
URL:
END:VEVENT
BEGIN:VEVENT
UID:40f73670-132d-4e95-9787-be65c9855367
DTSTART;TZID=America/Chicago:20260507T093000
DTEND;TZID=America/Chicago:20260507T103000
DTSTAMP:20260313T095452Z
SUMMARY:SeniorsFit
DESCRIPTION:
LOCATION:Multi-Purpose Building
URL:
END:VEVENT
BEGIN:VEVENT
UID:62b3d2d9-aeab-466b-8095-d042f57e891f
DTSTART;TZID=America/Chicago:20260508T093000
DTEND;TZID=America/Chicago:20260508T103000
DTSTAMP:20260313T095452Z
SUMMARY:SeniorsFit
DESCRIPTION:
LOCATION:Multi-Purpose Building
URL:
END:VEVENT
BEGIN:VEVENT
UID:230d688a-ae14-4d6e-aaae-6da37afc1782
DTSTART;TZID=America/Chicago:20260510T000000
DTEND;TZID=America/Chicago:20260510T235900
DTSTAMP:20260313T095451Z
SUMMARY:Mother's Day
DESCRIPTION:
LOCATION:
URL:
END:VEVENT
BEGIN:VEVENT
UID:4adacfb0-cfa9-4585-aac3-0c6078c82651
DTSTART;TZID=America/Chicago:20260510T000000
DTEND;TZID=America/Chicago:20260510T235900
DTSTAMP:20260313T095451Z
SUMMARY:Sunday Schedule
DESCRIPTION:Sunday School – 9:30 a.m.Worship – 11:00 a.m.
LOCATION:
URL:
END:VEVENT
BEGIN:VEVENT
UID:78039111-8dd5-4b0a-bc78-350633b495ca
DTSTART;TZID=America/Chicago:20260510T110000
DTEND;TZID=America/Chicago:20260510T140000
DTSTAMP:20260313T095451Z
SUMMARY:NJIB
DESCRIPTION:
LOCATION:Fellowship Hall
URL:
END:VEVENT
BEGIN:VEVENT
UID:8a463f2f-2f39-4a88-a6c4-a8cb7b85ed28
DTSTART;TZID=America/Chicago:20260510T170000
DTEND;TZID=America/Chicago:20260510T183000
DTSTAMP:20260313T095454Z
SUMMARY:Re-engage
DESCRIPTION:
LOCATION:Fellowship Hall
URL:
END:VEVENT
BEGIN:VEVENT
UID:6dd7e470-fdf5-4436-9048-1f0c4bfebca2
DTSTART;TZID=America/Chicago:20260511T093000
DTEND;TZID=America/Chicago:20260511T103000
DTSTAMP:20260313T095452Z
SUMMARY:SeniorsFit
DESCRIPTION:
LOCATION:Multi-Purpose Building
URL:
END:VEVENT
BEGIN:VEVENT
UID:b8cdaf82-7cc0-4908-9c22-0bee0de53a5e
DTSTART;TZID=America/Chicago:20260511T190000
DTEND;TZID=America/Chicago:20260511T200000
DTSTAMP:20260313T095453Z
SUMMARY:Prayer Meeting
DESCRIPTION:
LOCATION:MPB 7/8
URL:
END:VEVENT
BEGIN:VEVENT
UID:4d131bc9-9db0-4f70-a1a7-ae7cd2aafa47
DTSTART;TZID=America/Chicago:20260512T093000
DTEND;TZID=America/Chicago:20260512T103000
DTSTAMP:20260313T095452Z
SUMMARY:SeniorsFit
DESCRIPTION:
LOCATION:Multi-Purpose Building
URL:
END:VEVENT
BEGIN:VEVENT
UID:a1db5fb3-a241-4b7e-a80f-9c2909e2699c
DTSTART;TZID=America/Chicago:20260512T180000
DTEND;TZID=America/Chicago:20260512T200000
DTSTAMP:20260313T095452Z
SUMMARY:Senior Adult Fish Fry
DESCRIPTION:
LOCATION:
URL:
END:VEVENT
BEGIN:VEVENT
UID:50e1799a-77f9-464f-83c5-6fd0ab993b8f
DTSTART;TZID=America/Chicago:20260513T093000
DTEND;TZID=America/Chicago:20260513T103000
DTSTAMP:20260313T095452Z
SUMMARY:NO SeniorsFit
DESCRIPTION:
LOCATION:
URL:
END:VEVENT
BEGIN:VEVENT
UID:cd7be071-f862-4535-bfda-e7d311ff8155
DTSTART;TZID=America/Chicago:20260513T180000
DTEND;TZID=America/Chicago:20260513T190000
DTSTAMP:20260313T095451Z
SUMMARY:Wednesday Bible Study
DESCRIPTION:
LOCATION:Multi-Purpose Building
URL:
END:VEVENT
BEGIN:VEVENT
UID:1d7c270e-166b-4d1b-9535-1629a65d8b82
DTSTART;TZID=America/Chicago:20260513T180000
DTEND;TZID=America/Chicago:20260513T190000
DTSTAMP:20260313T095451Z
SUMMARY:WEBS
DESCRIPTION:
LOCATION:MPB 0
URL:
END:VEVENT
BEGIN:VEVENT
UID:2bd368ce-aa35-47ec-ae77-517a5376ff3e
DTSTART;TZID=America/Chicago:20260513T190000
DTEND;TZID=America/Chicago:20260513T203000
DTSTAMP:20260313T095453Z
SUMMARY:Merge
DESCRIPTION:
LOCATION:Student Center
URL:
END:VEVENT
BEGIN:VEVENT
UID:bfb035f1-deda-445a-965f-92b6625d6953
DTSTART;TZID=America/Chicago:20260513T190000
DTEND;TZID=America/Chicago:20260513T210000
DTSTAMP:20260313T095451Z
SUMMARY:Adult Choir
DESCRIPTION:
LOCATION:Choir Suite
URL:
END:VEVENT
BEGIN:VEVENT
UID:621bde3c-92a3-4ddb-be12-96dded793d3e
DTSTART;TZID=America/Chicago:20260514T093000
DTEND;TZID=America/Chicago:20260514T103000
DTSTAMP:20260313T095452Z
SUMMARY:SeniorsFit
DESCRIPTION:
LOCATION:Multi-Purpose Building
URL:
END:VEVENT
BEGIN:VEVENT
UID:c5e49db4-64f6-421f-a729-4715d8ad4134
DTSTART;TZID=America/Chicago:20260515T093000
DTEND;TZID=America/Chicago:20260515T103000
DTSTAMP:20260313T095452Z
SUMMARY:SeniorsFit
DESCRIPTION:
LOCATION:Multi-Purpose Building
URL:
END:VEVENT
BEGIN:VEVENT
UID:c1593848-5423-4177-9615-24be283853d2
DTSTART;TZID=America/Chicago:20260517T000000
DTEND;TZID=America/Chicago:20260517T235900
DTSTAMP:20260313T095451Z
SUMMARY:Sunday Schedule
DESCRIPTION:Sunday School – 9:30 a.m.Worship – 11:00 a.m.
LOCATION:
URL:
END:VEVENT
BEGIN:VEVENT
UID:2345de07-68c7-4c21-81d9-c0ce9c5318f9
DTSTART;TZID=America/Chicago:20260517T110000
DTEND;TZID=America/Chicago:20260517T140000
DTSTAMP:20260313T095451Z
SUMMARY:NJIB
DESCRIPTION:
LOCATION:Fellowship Hall
URL:
END:VEVENT
BEGIN:VEVENT
UID:9d444f5e-13fc-4aa3-94fb-194df3a17395
DTSTART;TZID=America/Chicago:20260517T170000
DTEND;TZID=America/Chicago:20260517T183000
DTSTAMP:20260313T095454Z
SUMMARY:Re-engage
DESCRIPTION:
LOCATION:Fellowship Hall
URL:
END:VEVENT
BEGIN:VEVENT
UID:d4063cb0-6f5f-4789-83c2-8b4523f6caef
DTSTART;TZID=America/Chicago:20260518T093000
DTEND;TZID=America/Chicago:20260518T103000
DTSTAMP:20260313T095452Z
SUMMARY:SeniorsFit
DESCRIPTION:
LOCATION:Multi-Purpose Building
URL:
END:VEVENT
BEGIN:VEVENT
UID:2925b96e-aa4d-4c5e-944d-d7190f7daaec
DTSTART;TZID=America/Chicago:20260518T190000
DTEND;TZID=America/Chicago:20260518T200000
DTSTAMP:20260313T095453Z
SUMMARY:Prayer Meeting
DESCRIPTION:
LOCATION:MPB 7/8
URL:
END:VEVENT
BEGIN:VEVENT
UID:67c183af-8bcc-4691-bfe5-9cc87d595f5c
DTSTART;TZID=America/Chicago:20260519T093000
DTEND;TZID=America/Chicago:20260519T103000
DTSTAMP:20260313T095452Z
SUMMARY:SeniorsFit
DESCRIPTION:
LOCATION:Multi-Purpose Building
URL:
END:VEVENT
BEGIN:VEVENT
UID:04ca2706-e442-4f76-8611-f03a8ca40eeb
DTSTART;TZID=America/Chicago:20260520T093000
DTEND;TZID=America/Chicago:20260520T103000
DTSTAMP:20260313T095452Z
SUMMARY:SeniorsFit
DESCRIPTION:
LOCATION:Multi-Purpose Building
URL:
END:VEVENT
BEGIN:VEVENT
UID:dff7e415-ae85-4b06-95d7-c6039b22cf2b
DTSTART;TZID=America/Chicago:20260520T180000
DTEND;TZID=America/Chicago:20260520T190000
DTSTAMP:20260313T095451Z
SUMMARY:WEBS
DESCRIPTION:
LOCATION:MPB 0
URL:
END:VEVENT
BEGIN:VEVENT
UID:1b6ca780-7374-4739-9b07-95a96e844655
DTSTART;TZID=America/Chicago:20260520T180000
DTEND;TZID=America/Chicago:20260520T190000
DTSTAMP:20260313T095451Z
SUMMARY:Wednesday Bible Study
DESCRIPTION:
LOCATION:Multi-Purpose Building
URL:
END:VEVENT
BEGIN:VEVENT
UID:3c05dadd-96ca-4151-96d1-571a25c5ddc3
DTSTART;TZID=America/Chicago:20260520T190000
DTEND;TZID=America/Chicago:20260520T203000
DTSTAMP:20260313T095453Z
SUMMARY:Merge
DESCRIPTION:
LOCATION:Student Center
URL:
END:VEVENT
BEGIN:VEVENT
UID:c06fcc66-5f17-4bd5-a46e-2a4aa77061bb
DTSTART;TZID=America/Chicago:20260520T190000
DTEND;TZID=America/Chicago:20260520T210000
DTSTAMP:20260313T095451Z
SUMMARY:Adult Choir
DESCRIPTION:
LOCATION:Choir Suite
URL:
END:VEVENT
BEGIN:VEVENT
UID:a4a7de76-7b5e-43e0-b099-1beeee8298fb
DTSTART;TZID=America/Chicago:20260521T090000
DTEND;TZID=America/Chicago:20260521T160000
DTSTAMP:20260313T095453Z
SUMMARY:Senior Adults Amtrack Trip
DESCRIPTION:
LOCATION:
URL:
END:VEVENT
BEGIN:VEVENT
UID:3ea24eda-e3a9-42d4-983b-466d94f87b98
DTSTART;TZID=America/Chicago:20260521T093000
DTEND;TZID=America/Chicago:20260521T103000
DTSTAMP:20260313T095452Z
SUMMARY:SeniorsFit
DESCRIPTION:
LOCATION:Multi-Purpose Building
URL:
END:VEVENT
BEGIN:VEVENT
UID:980370d7-d7b0-49c6-bb7b-0f055c177534
DTSTART;TZID=America/Chicago:20260522T093000
DTEND;TZID=America/Chicago:20260522T103000
DTSTAMP:20260313T095452Z
SUMMARY:SeniorsFit
DESCRIPTION:
LOCATION:Multi-Purpose Building
URL:
END:VEVENT
BEGIN:VEVENT
UID:158c3335-0e9d-4cdf-aea3-5a211f34d956
DTSTART;TZID=America/Chicago:20260524T000000
DTEND;TZID=America/Chicago:20260524T235900
DTSTAMP:20260313T095451Z
SUMMARY:Sunday Schedule
DESCRIPTION:Sunday School – 9:30 a.m.Worship – 11:00 a.m.
LOCATION:
URL:
END:VEVENT
BEGIN:VEVENT
UID:b02c4d98-9ffd-41d5-a62e-ad354c487053
DTSTART;TZID=America/Chicago:20260524T110000
DTEND;TZID=America/Chicago:20260524T140000
DTSTAMP:20260313T095451Z
SUMMARY:NJIB
DESCRIPTION:
LOCATION:Fellowship Hall
URL:
END:VEVENT
BEGIN:VEVENT
UID:4c048b49-c151-44a8-a6e1-5d88fc285e07
DTSTART;TZID=America/Chicago:20260525T000000
DTEND;TZID=America/Chicago:20260525T235900
DTSTAMP:20260313T095451Z
SUMMARY:Memorial Day
DESCRIPTION:
LOCATION:
URL:
END:VEVENT
BEGIN:VEVENT
UID:e8f5422b-afa5-4270-86d4-f33da2be09f4
DTSTART;TZID=America/Chicago:20260525T000000
DTEND;TZID=America/Chicago:20260525T235900
DTSTAMP:20260313T095451Z
SUMMARY:Office Closed
DESCRIPTION:
LOCATION:
URL:
END:VEVENT
BEGIN:VEVENT
UID:df860d3a-87aa-4353-b9ef-b68449c8c22a
DTSTART;TZID=America/Chicago:20260526T093000
DTEND;TZID=America/Chicago:20260526T103000
DTSTAMP:20260313T095452Z
SUMMARY:SeniorsFit
DESCRIPTION:
LOCATION:Multi-Purpose Building
URL:
END:VEVENT
BEGIN:VEVENT
UID:b1b44410-cdd5-44ce-b2f8-7f5e078e8f22
DTSTART;TZID=America/Chicago:20260526T180000
DTEND;TZID=America/Chicago:20260526T210000
DTSTAMP:20260313T095451Z
SUMMARY:Men's Game Night
DESCRIPTION:
LOCATION:MPB 7/8
URL:
END:VEVENT
BEGIN:VEVENT
UID:93bc026a-3fac-41b7-ba00-8b6c7491c7ee
DTSTART;TZID=America/Chicago:20260527T093000
DTEND;TZID=America/Chicago:20260527T103000
DTSTAMP:20260313T095452Z
SUMMARY:SeniorsFit
DESCRIPTION:
LOCATION:Multi-Purpose Building
URL:
END:VEVENT
BEGIN:VEVENT
UID:f4ddd162-0034-4b13-868f-42821947a6f5
DTSTART;TZID=America/Chicago:20260527T180000
DTEND;TZID=America/Chicago:20260527T190000
DTSTAMP:20260313T095451Z
SUMMARY:WEBS
DESCRIPTION:
LOCATION:MPB 0
URL:
END:VEVENT
BEGIN:VEVENT
UID:98b733be-0ccc-4eca-b158-5ad7e5c10fae
DTSTART;TZID=America/Chicago:20260527T180000
DTEND;TZID=America/Chicago:20260527T190000
DTSTAMP:20260313T095451Z
SUMMARY:Business Meeting/Wed Bible Study
DESCRIPTION:
LOCATION:
URL:
END:VEVENT
BEGIN:VEVENT
UID:faa50a9e-958a-4ca6-8617-97ab093c1cae
DTSTART;TZID=America/Chicago:20260527T190000
DTEND;TZID=America/Chicago:20260527T203000
DTSTAMP:20260313T095453Z
SUMMARY:No Merge
DESCRIPTION:
LOCATION:
URL:
END:VEVENT
BEGIN:VEVENT
UID:3a36d287-e4ed-4ab0-a3d5-7fd345b82017
DTSTART;TZID=America/Chicago:20260527T190000
DTEND;TZID=America/Chicago:20260527T210000
DTSTAMP:20260313T095451Z
SUMMARY:Adult Choir
DESCRIPTION:
LOCATION:Choir Suite
URL:
END:VEVENT
BEGIN:VEVENT
UID:6ef4d98d-f763-493e-833f-75a302ef8cad
DTSTART;TZID=America/Chicago:20260528T093000
DTEND;TZID=America/Chicago:20260528T103000
DTSTAMP:20260313T095452Z
SUMMARY:SeniorsFit
DESCRIPTION:
LOCATION:Multi-Purpose Building
URL:
END:VEVENT
BEGIN:VEVENT
UID:ae1931d7-8538-4fae-ba19-7f75f6b09f59
DTSTART;TZID=America/Chicago:20260529T093000
DTEND;TZID=America/Chicago:20260529T103000
DTSTAMP:20260313T095452Z
SUMMARY:SeniorsFit
DESCRIPTION:
LOCATION:Multi-Purpose Building
URL:
END:VEVENT
BEGIN:VEVENT
UID:f3918aa7-c3f3-4741-a22e-79b0f750975e
DTSTART;TZID=America/Chicago:20260531T000000
DTEND;TZID=America/Chicago:20260531T235900
DTSTAMP:20260313T095451Z
SUMMARY:Sunday Schedule
DESCRIPTION:Sunday School – 9:30 a.m.Worship – 11:00 a.m.
LOCATION:
URL:
END:VEVENT
BEGIN:VEVENT
UID:db9eba86-aa93-4251-a9e3-af3c684c2ff9
DTSTART;TZID=America/Chicago:20260531T110000
DTEND;TZID=America/Chicago:20260531T140000
DTSTAMP:20260313T095451Z
SUMMARY:NJIB
DESCRIPTION:
LOCATION:Fellowship Hall
URL:
END:VEVENT
BEGIN:VEVENT
UID:d2a295eb-8904-4e17-8943-55c0c31db6bc
DTSTART;TZID=America/Chicago:20260601T093000
DTEND;TZID=America/Chicago:20260601T103000
DTSTAMP:20260313T095452Z
SUMMARY:SeniorsFit
DESCRIPTION:
LOCATION:Multi-Purpose Building
URL:
END:VEVENT
BEGIN:VEVENT
UID:47be9911-11a8-4f16-b63b-ccb8380463e7
DTSTART;TZID=America/Chicago:20260601T190000
DTEND;TZID=America/Chicago:20260601T200000
DTSTAMP:20260313T095453Z
SUMMARY:Prayer Meeting
DESCRIPTION:
LOCATION:MPB 7/8
URL:
END:VEVENT
BEGIN:VEVENT
UID:f4e0650f-4fdf-4221-83b1-1d0fe5af38f0
DTSTART;TZID=America/Chicago:20260602T093000
DTEND;TZID=America/Chicago:20260602T103000
DTSTAMP:20260313T095452Z
SUMMARY:SeniorsFit
DESCRIPTION:
LOCATION:Multi-Purpose Building
URL:
END:VEVENT
BEGIN:VEVENT
UID:6c399842-799b-4c20-b3f6-8ca33b539307
DTSTART;TZID=America/Chicago:20260603T093000
DTEND;TZID=America/Chicago:20260603T103000
DTSTAMP:20260313T095452Z
SUMMARY:SeniorsFit
DESCRIPTION:
LOCATION:Multi-Purpose Building
URL:
END:VEVENT
BEGIN:VEVENT
UID:d8054396-c232-4822-b6bf-cf6dad69adf3
DTSTART;TZID=America/Chicago:20260603T180000
DTEND;TZID=America/Chicago:20260603T190000
DTSTAMP:20260313T095451Z
SUMMARY:Wednesday Bible Study
DESCRIPTION:
LOCATION:Multi-Purpose Building
URL:
END:VEVENT
BEGIN:VEVENT
UID:18495305-7683-45e5-9c1f-d107cf8ade34
DTSTART;TZID=America/Chicago:20260603T180000
DTEND;TZID=America/Chicago:20260603T190000
DTSTAMP:20260313T095451Z
SUMMARY:WEBS
DESCRIPTION:
LOCATION:MPB 0
URL:
END:VEVENT
BEGIN:VEVENT
UID:ec2afcc4-a3c4-4588-94ea-0ffdd817cc36
DTSTART;TZID=America/Chicago:20260603T190000
DTEND;TZID=America/Chicago:20260603T210000
DTSTAMP:20260313T095451Z
SUMMARY:Adult Choir
DESCRIPTION:
LOCATION:Choir Suite
URL:
END:VEVENT
BEGIN:VEVENT
UID:9667a696-9f62-4e13-a4ff-73582cf2feb0
DTSTART;TZID=America/Chicago:20260604T093000
DTEND;TZID=America/Chicago:20260604T103000
DTSTAMP:20260313T095452Z
SUMMARY:SeniorsFit
DESCRIPTION:
LOCATION:Multi-Purpose Building
URL:
END:VEVENT
BEGIN:VEVENT
UID:a9e6fc1a-deed-43b5-b289-d9325781f03e
DTSTART;TZID=America/Chicago:20260605T093000
DTEND;TZID=America/Chicago:20260605T103000
DTSTAMP:20260313T095452Z
SUMMARY:SeniorsFit
DESCRIPTION:
LOCATION:Multi-Purpose Building
URL:
END:VEVENT
BEGIN:VEVENT
UID:c21866cc-9a28-47ba-a2d7-b970b75e4ac2
DTSTART;TZID=America/Chicago:20260607T000000
DTEND;TZID=America/Chicago:20260610T000000
DTSTAMP:20260313T095453Z
SUMMARY:Sports Camp
DESCRIPTION:
LOCATION:
URL:
END:VEVENT
BEGIN:VEVENT
UID:a1a2b7b4-c33c-40c4-ac41-b42fd98d13bc
DTSTART;TZID=America/Chicago:20260607T000000
DTEND;TZID=America/Chicago:20260607T235900
DTSTAMP:20260313T095451Z
SUMMARY:Sunday Schedule
DESCRIPTION:Sunday School – 9:30 a.m.Worship – 11:00 a.m.
LOCATION:
URL:
END:VEVENT
BEGIN:VEVENT
UID:eda58663-c7a9-419d-805d-f220acae6da8
DTSTART;TZID=America/Chicago:20260607T110000
DTEND;TZID=America/Chicago:20260607T140000
DTSTAMP:20260313T095451Z
SUMMARY:NJIB
DESCRIPTION:
LOCATION:Fellowship Hall
URL:
END:VEVENT
BEGIN:VEVENT
UID:6bafcef1-b720-4bfa-8875-802168121896
DTSTART;TZID=America/Chicago:20260608T093000
DTEND;TZID=America/Chicago:20260608T103000
DTSTAMP:20260313T095452Z
SUMMARY:No SeniorsFit
DESCRIPTION:
LOCATION:
URL:
END:VEVENT
BEGIN:VEVENT
UID:9b064733-462e-4f4d-8d01-c336cbdaba10
DTSTART;TZID=America/Chicago:20260608T190000
DTEND;TZID=America/Chicago:20260608T200000
DTSTAMP:20260313T095453Z
SUMMARY:Prayer Meeting
DESCRIPTION:
LOCATION:MPB 7/8
URL:
END:VEVENT
BEGIN:VEVENT
UID:7023f1a5-5277-450a-96a2-15adaf5b4c75
DTSTART;TZID=America/Chicago:20260609T093000
DTEND;TZID=America/Chicago:20260609T103000
DTSTAMP:20260313T095452Z
SUMMARY:No SeniorsFit
DESCRIPTION:
LOCATION:
URL:
END:VEVENT
BEGIN:VEVENT
UID:e1f6fe69-be60-4658-8c32-8b5fb0c341c0
DTSTART;TZID=America/Chicago:20260610T093000
DTEND;TZID=America/Chicago:20260610T103000
DTSTAMP:20260313T095452Z
SUMMARY:No SeniorsFit
DESCRIPTION:
LOCATION:
URL:
END:VEVENT
BEGIN:VEVENT
UID:be3681cd-49e7-4115-af7e-5d7e14f9ee9f
DTSTART;TZID=America/Chicago:20260610T180000
DTEND;TZID=America/Chicago:20260610T190000
DTSTAMP:20260313T095451Z
SUMMARY:No Wed Bible Study
DESCRIPTION:
LOCATION:
URL:
END:VEVENT
BEGIN:VEVENT
UID:750d320f-dbc8-42c4-9a41-6615e62f7c23
DTSTART;TZID=America/Chicago:20260610T180000
DTEND;TZID=America/Chicago:20260610T190000
DTSTAMP:20260313T095451Z
SUMMARY:NO WEBS
DESCRIPTION:
LOCATION:
URL:
END:VEVENT
BEGIN:VEVENT
UID:bf1583d9-5318-4ac6-8712-bf8a2cce7c2c
DTSTART;TZID=America/Chicago:20260610T190000
DTEND;TZID=America/Chicago:20260610T210000
DTSTAMP:20260313T095451Z
SUMMARY:Adult Choir
DESCRIPTION:
LOCATION:Choir Suite
URL:
END:VEVENT
BEGIN:VEVENT
UID:7389b950-1934-46d4-9af8-aa5589e93f8d
DTSTART;TZID=America/Chicago:20260611T093000
DTEND;TZID=America/Chicago:20260611T103000
DTSTAMP:20260313T095452Z
SUMMARY:SeniorsFit
DESCRIPTION:
LOCATION:Multi-Purpose Building
URL:
END:VEVENT
BEGIN:VEVENT
UID:2f8e93d3-ce31-4a58-af2b-05207af5a574
DTSTART;TZID=America/Chicago:20260612T093000
DTEND;TZID=America/Chicago:20260612T103000
DTSTAMP:20260313T095452Z
SUMMARY:SeniorsFit
DESCRIPTION:
LOCATION:Multi-Purpose Building
URL:
END:VEVENT
BEGIN:VEVENT
UID:cf2001eb-b744-461a-863a-b37082f878ee
DTSTART;TZID=America/Chicago:20260614T000000
DTEND;TZID=America/Chicago:20260619T000000
DTSTAMP:20260313T095453Z
SUMMARY:Student Mission Trip
DESCRIPTION:
LOCATION:
URL:
END:VEVENT
BEGIN:VEVENT
UID:fdf96fcd-b0e3-4904-98c6-9c912ea5fa44
DTSTART;TZID=America/Chicago:20260614T000000
DTEND;TZID=America/Chicago:20260614T235900
DTSTAMP:20260313T095451Z
SUMMARY:Sunday Schedule
DESCRIPTION:Sunday School – 9:30 a.m.Worship – 11:00 a.m.
LOCATION:
URL:
END:VEVENT
BEGIN:VEVENT
UID:12f6dff4-7a15-45df-a9fd-4e7fa6389b3b
DTSTART;TZID=America/Chicago:20260614T110000
DTEND;TZID=America/Chicago:20260614T140000
DTSTAMP:20260313T095451Z
SUMMARY:NJIB
DESCRIPTION:
LOCATION:Fellowship Hall
URL:
END:VEVENT
BEGIN:VEVENT
UID:288d0807-aea2-4e1b-a44f-2374b653ed12
DTSTART;TZID=America/Chicago:20260615T093000
DTEND;TZID=America/Chicago:20260615T103000
DTSTAMP:20260313T095452Z
SUMMARY:SeniorsFit
DESCRIPTION:
LOCATION:Multi-Purpose Building
URL:
END:VEVENT
BEGIN:VEVENT
UID:a3c28a94-1cad-4606-ae5f-1b6e0625491d
DTSTART;TZID=America/Chicago:20260615T190000
DTEND;TZID=America/Chicago:20260615T200000
DTSTAMP:20260313T095453Z
SUMMARY:Prayer Meeting
DESCRIPTION:
LOCATION:MPB 7/8
URL:
END:VEVENT
BEGIN:VEVENT
UID:8866a592-6683-477b-93c7-a0825d62caad
DTSTART;TZID=America/Chicago:20260616T093000
DTEND;TZID=America/Chicago:20260616T120000
DTSTAMP:20260313T095453Z
SUMMARY:Doodlebugs Art Days
DESCRIPTION:
LOCATION:
URL:
END:VEVENT
BEGIN:VEVENT
UID:98fbd9bb-e8ed-4f9c-978f-2bcd6ae6fcc5
DTSTART;TZID=America/Chicago:20260616T093000
DTEND;TZID=America/Chicago:20260616T103000
DTSTAMP:20260313T095452Z
SUMMARY:SeniorsFit
DESCRIPTION:
LOCATION:Multi-Purpose Building
URL:
END:VEVENT
BEGIN:VEVENT
UID:03d7590b-74c0-41de-bfd9-9b679b94ee7f
DTSTART;TZID=America/Chicago:20260616T180000
DTEND;TZID=America/Chicago:20260616T200000
DTSTAMP:20260313T095452Z
SUMMARY:Senior Adult Bingo and Beef Potluck
DESCRIPTION:
LOCATION:
URL:
END:VEVENT
BEGIN:VEVENT
UID:bd1b9697-392e-48d6-9bbf-a632eff61231
DTSTART;TZID=America/Chicago:20260617T093000
DTEND;TZID=America/Chicago:20260617T103000
DTSTAMP:20260313T095452Z
SUMMARY:NO SeniorsFit
DESCRIPTION:
LOCATION:
URL:
END:VEVENT
BEGIN:VEVENT
UID:2feead2e-90b5-4ee8-ba05-d93f7a0aa1ac
DTSTART;TZID=America/Chicago:20260617T180000
DTEND;TZID=America/Chicago:20260617T190000
DTSTAMP:20260313T095451Z
SUMMARY:WEBS
DESCRIPTION:
LOCATION:MPB 0
URL:
END:VEVENT
BEGIN:VEVENT
UID:4e194b63-4140-4831-b4b3-8b06ebc675a6
DTSTART;TZID=America/Chicago:20260617T180000
DTEND;TZID=America/Chicago:20260617T190000
DTSTAMP:20260313T095451Z
SUMMARY:Wednesday Bible Study
DESCRIPTION:
LOCATION:Multi-Purpose Building
URL:
END:VEVENT
BEGIN:VEVENT
UID:6e721fda-b52e-46a4-9884-29edf62aab9d
DTSTART;TZID=America/Chicago:20260617T190000
DTEND;TZID=America/Chicago:20260617T210000
DTSTAMP:20260313T095451Z
SUMMARY:Adult Choir
DESCRIPTION:
LOCATION:Choir Suite
URL:
END:VEVENT
BEGIN:VEVENT
UID:2d581a69-ff7a-4c0b-a739-ac160865603d
DTSTART;TZID=America/Chicago:20260618T093000
DTEND;TZID=America/Chicago:20260618T103000
DTSTAMP:20260313T095452Z
SUMMARY:SeniorsFit
DESCRIPTION:
LOCATION:Multi-Purpose Building
URL:
END:VEVENT
BEGIN:VEVENT
UID:9e35fe92-db02-448b-9576-c3ef5675e24d
DTSTART;TZID=America/Chicago:20260618T180000
DTEND;TZID=America/Chicago:20260618T193000
DTSTAMP:20260313T095453Z
SUMMARY:Family Game Night
DESCRIPTION:
LOCATION:Fellowship Hall
URL:
END:VEVENT
BEGIN:VEVENT
UID:7e2ca378-0f5d-46be-bb6f-37ec95e19c63
DTSTART;TZID=America/Chicago:20260619T000000
DTEND;TZID=America/Chicago:20260619T235900
DTSTAMP:20260313T095451Z
SUMMARY:Juneteenth
DESCRIPTION:
LOCATION:
URL:
END:VEVENT
BEGIN:VEVENT
UID:147f4941-f2b9-4509-ad1e-7f99f3c88855
DTSTART;TZID=America/Chicago:20260619T093000
DTEND;TZID=America/Chicago:20260619T103000
DTSTAMP:20260313T095452Z
SUMMARY:SeniorsFit
DESCRIPTION:
LOCATION:Multi-Purpose Building
URL:
END:VEVENT
END:VCALENDAR